BEGIN:VCALENDAR
VERSION:2.0
PRODID:-//Seeländischer Terrarien- und Zierfischverein - ECPv6.15.20//NONSGML v1.0//EN
CALSCALE:GREGORIAN
METHOD:PUBLISH
X-ORIGINAL-URL:https://zierfischverein.ch
X-WR-CALDESC:Veranstaltungen für Seeländischer Terrarien- und Zierfischverein
REFRESH-INTERVAL;VALUE=DURATION:PT1H
X-Robots-Tag:noindex
X-PUBLISHED-TTL:PT1H
BEGIN:VTIMEZONE
TZID:Europe/Paris
BEGIN:DAYLIGHT
TZOFFSETFROM:+0100
TZOFFSETTO:+0200
TZNAME:CEST
DTSTART:20180325T010000
END:DAYLIGHT
BEGIN:STANDARD
TZOFFSETFROM:+0200
TZOFFSETTO:+0100
TZNAME:CET
DTSTART:20181028T010000
END:STANDARD
BEGIN:DAYLIGHT
TZOFFSETFROM:+0100
TZOFFSETTO:+0200
TZNAME:CEST
DTSTART:20190331T010000
END:DAYLIGHT
BEGIN:STANDARD
TZOFFSETFROM:+0200
TZOFFSETTO:+0100
TZNAME:CET
DTSTART:20191027T010000
END:STANDARD
BEGIN:DAYLIGHT
TZOFFSETFROM:+0100
TZOFFSETTO:+0200
TZNAME:CEST
DTSTART:20200329T010000
END:DAYLIGHT
BEGIN:STANDARD
TZOFFSETFROM:+0200
TZOFFSETTO:+0100
TZNAME:CET
DTSTART:20201025T010000
END:STANDARD
BEGIN:DAYLIGHT
TZOFFSETFROM:+0100
TZOFFSETTO:+0200
TZNAME:CEST
DTSTART:20210328T010000
END:DAYLIGHT
BEGIN:STANDARD
TZOFFSETFROM:+0200
TZOFFSETTO:+0100
TZNAME:CET
DTSTART:20211031T010000
END:STANDARD
BEGIN:DAYLIGHT
TZOFFSETFROM:+0100
TZOFFSETTO:+0200
TZNAME:CEST
DTSTART:20220327T010000
END:DAYLIGHT
BEGIN:STANDARD
TZOFFSETFROM:+0200
TZOFFSETTO:+0100
TZNAME:CET
DTSTART:20221030T010000
END:STANDARD
BEGIN:DAYLIGHT
TZOFFSETFROM:+0100
TZOFFSETTO:+0200
TZNAME:CEST
DTSTART:20230326T010000
END:DAYLIGHT
BEGIN:STANDARD
TZOFFSETFROM:+0200
TZOFFSETTO:+0100
TZNAME:CET
DTSTART:20231029T010000
END:STANDARD
BEGIN:DAYLIGHT
TZOFFSETFROM:+0100
TZOFFSETTO:+0200
TZNAME:CEST
DTSTART:20240331T010000
END:DAYLIGHT
BEGIN:STANDARD
TZOFFSETFROM:+0200
TZOFFSETTO:+0100
TZNAME:CET
DTSTART:20241027T010000
END:STANDARD
BEGIN:DAYLIGHT
TZOFFSETFROM:+0100
TZOFFSETTO:+0200
TZNAME:CEST
DTSTART:20250330T010000
END:DAYLIGHT
BEGIN:STANDARD
TZOFFSETFROM:+0200
TZOFFSETTO:+0100
TZNAME:CET
DTSTART:20251026T010000
END:STANDARD
BEGIN:DAYLIGHT
TZOFFSETFROM:+0100
TZOFFSETTO:+0200
TZNAME:CEST
DTSTART:20260329T010000
END:DAYLIGHT
BEGIN:STANDARD
TZOFFSETFROM:+0200
TZOFFSETTO:+0100
TZNAME:CET
DTSTART:20261025T010000
END:STANDARD
BEGIN:DAYLIGHT
TZOFFSETFROM:+0100
TZOFFSETTO:+0200
TZNAME:CEST
DTSTART:20270328T010000
END:DAYLIGHT
BEGIN:STANDARD
TZOFFSETFROM:+0200
TZOFFSETTO:+0100
TZNAME:CET
DTSTART:20271031T010000
END:STANDARD
END:VTIMEZONE
BEGIN:VTIMEZONE
TZID:Europe/Zurich
BEGIN:DAYLIGHT
TZOFFSETFROM:+0100
TZOFFSETTO:+0200
TZNAME:CEST
DTSTART:20180325T010000
END:DAYLIGHT
BEGIN:STANDARD
TZOFFSETFROM:+0200
TZOFFSETTO:+0100
TZNAME:CET
DTSTART:20181028T010000
END:STANDARD
BEGIN:DAYLIGHT
TZOFFSETFROM:+0100
TZOFFSETTO:+0200
TZNAME:CEST
DTSTART:20190331T010000
END:DAYLIGHT
BEGIN:STANDARD
TZOFFSETFROM:+0200
TZOFFSETTO:+0100
TZNAME:CET
DTSTART:20191027T010000
END:STANDARD
BEGIN:DAYLIGHT
TZOFFSETFROM:+0100
TZOFFSETTO:+0200
TZNAME:CEST
DTSTART:20200329T010000
END:DAYLIGHT
BEGIN:STANDARD
TZOFFSETFROM:+0200
TZOFFSETTO:+0100
TZNAME:CET
DTSTART:20201025T010000
END:STANDARD
END:VTIMEZONE
BEGIN:VEVENT
DTSTART;TZID=Europe/Paris:20260322T100000
DTEND;TZID=Europe/Paris:20260322T140000
DTSTAMP:20260424T142921
CREATED:20260319T172542Z
LAST-MODIFIED:20260319T172542Z
UID:1924-1774173600-1774188000@zierfischverein.ch
SUMMARY:ReptiFish 2026 – 28. Seeländische Zierfisch- & Reptilien – Börse
DESCRIPTION:Im Frühling 2026 findet unsere Börse schon zum 28. Mal statt. Züchter aus der ganzen Schweiz bieten ihre eigenen Nachzuchten zum Verkauf an. Daneben findet der Besucher Futter\, aber auch Technik und Einrichtungen für Aquarien und Terrarien können erworben werden.\nDie grosszügige Cafeteria bietet nebst Kaffe und Kuchen auch einige warme Imbisse an und bietet Platz für Treffen und Diskussionen unter Gleichgesinnten. Ein Besuch lohnt sich allemal! Wir freuen uns Sie an der Börse begrüssen zu dürfen. \nDie Börse ist komplett rollstuhlgängig.\nDie Parkplätze befinden sich direkt vor dem Eingang.\nEintritt frei.
URL:https://zierfischverein.ch/event/reptifish-2026-28-seelaendische-zierfisch-reptilien-boerse/
LOCATION:Mehrzweckhalle Kallnach\, Turnhallenweg\, Kallnach\, 3283\, Schweiz
CATEGORIES:Börsen
ORGANIZER;CN="Seel%C3%A4ndischer Terrarien- und Zierfischverein":MAILTO:zierfischverein@hotmail.com
END:VEVENT
BEGIN:VEVENT
DTSTART;TZID=Europe/Paris:20260321T120000
DTEND;TZID=Europe/Paris:20260321T170000
DTSTAMP:20260424T142921
CREATED:20260319T172714Z
LAST-MODIFIED:20260319T172714Z
UID:1926-1774094400-1774112400@zierfischverein.ch
SUMMARY:Aufbau ReptiFish 2026
DESCRIPTION:Aufbau der ReptiFish 2026. \nTreffpunkt je nach Einteilung Waldhaus Lyss\, Seelandhalle Lyss oder MZW Kallnach. \nHelfer sind gerne willkommen!
URL:https://zierfischverein.ch/event/aufbau-reptifish-2026/
LOCATION:Mehrzweckhalle Kallnach\, Turnhallenweg\, Kallnach\, 3283\, Schweiz
CATEGORIES:Börsen
ORGANIZER;CN="Seel%C3%A4ndischer Terrarien- und Zierfischverein":MAILTO:zierfischverein@hotmail.com
END:VEVENT
BEGIN:VEVENT
DTSTART;TZID=Europe/Paris:20250509T180000
DTEND;TZID=Europe/Paris:20250509T180000
DTSTAMP:20260424T142921
CREATED:20250326T190120Z
LAST-MODIFIED:20250326T190309Z
UID:1879-1746813600-1746813600@zierfischverein.ch
SUMMARY:Helferessen ReptiFish2025
DESCRIPTION:Die Helden der ReptiFish sind die Personen\, die beim Auf- und Abbau „gechrampft“ oder uns während der Börse unterstützt haben.  Sie haben sich dieses Essen mehr als verdient! Danke für Eure mithilfe! \nDu willst nächstes Jahr die gute Pizza nicht verpassen? Dann melde dich schnell unter info@zierfischverein.ch \n 
URL:https://zierfischverein.ch/event/helferessen-reptifish2025/
LOCATION:Spatz Lyss\, Bielstrasse 28\, Lyss\, Bern\, 3250\, Schweiz
ORGANIZER;CN="Seel%C3%A4ndischer Terrarien- und Zierfischverein":MAILTO:zierfischverein@hotmail.com
END:VEVENT
BEGIN:VEVENT
DTSTART;TZID=Europe/Paris:20250425T190000
DTEND;TZID=Europe/Paris:20250425T190000
DTSTAMP:20260424T142921
CREATED:20250326T185436Z
LAST-MODIFIED:20250326T185436Z
UID:1877-1745607600-1745607600@zierfischverein.ch
SUMMARY:GV
DESCRIPTION:Alljährliche Generalversammlung. Für Mitglieder ist die GV obligatorisch! \nBei Abwesenheit bitte frühzeitig abmelden. \nDu bist noch nicht Mitglied? \nKeine Angst\, egal ob du ein großes Aquarium hast oder nur ein kleines Nano-Becken\, ob du gerade erst anfängst oder schon lange dabei bist – wir haben vom Anfänger bis zum Experten alles dabei. Und keine Sorge: Vereinsleben bedeutet keinen großen Aufwand\, sondern vor allem Austausch\, Tipps und gemeinsame Erlebnisse. 😊 \nMelde dich also schnell unter info@zierfischverein.ch
URL:https://zierfischverein.ch/event/gv/
LOCATION:Spatz Lyss\, Bielstrasse 28\, Lyss\, Bern\, 3250\, Schweiz
ORGANIZER;CN="Seel%C3%A4ndischer Terrarien- und Zierfischverein":MAILTO:zierfischverein@hotmail.com
END:VEVENT
BEGIN:VEVENT
DTSTART;TZID=Europe/Paris:20250323T100000
DTEND;TZID=Europe/Paris:20250323T140000
DTSTAMP:20260424T142921
CREATED:20250204T165734Z
LAST-MODIFIED:20250204T165734Z
UID:1840-1742724000-1742738400@zierfischverein.ch
SUMMARY:ReptiFish 2025 – 27. Seeländische Zierfisch- & Reptilien – Börse
DESCRIPTION:Im Frühling 2025 findet unsere Börse schon zum 27. Mal statt. Züchter aus der ganzen Schweiz bieten ihre eigenen Nachzuchten zum Verkauf an. Daneben findet der Besucher Futter\, aber auch Technik und Einrichtungen für Aquarien und Terrarien können erworben werden.\nDie grosszügige Cafeteria bietet nebst Kaffe und Kuchen auch einige warme Imbisse an und bietet Platz für Treffen und Diskussionen unter Gleichgesinnten. Ein Besuch lohnt sich allemal! Wir freuen uns Sie an der Börse begrüssen zu dürfen. \nDie Börse ist komplett rollstuhlgängig.\nDie Parkplätze befinden sich direkt vor dem Eingang.\nEintritt frei.
URL:https://zierfischverein.ch/event/reptifish-2025-27-seelaendische-zierfisch-reptilien-boerse/
LOCATION:Mehrzweckhalle Kallnach\, Turnhallenweg\, Kallnach\, 3283\, Schweiz
ORGANIZER;CN="Seel%C3%A4ndischer Terrarien- und Zierfischverein":MAILTO:zierfischverein@hotmail.com
END:VEVENT
BEGIN:VEVENT
DTSTART;TZID=Europe/Paris:20250322T120000
DTEND;TZID=Europe/Paris:20250322T170000
DTSTAMP:20260424T142921
CREATED:20250204T165844Z
LAST-MODIFIED:20250204T165922Z
UID:1842-1742644800-1742662800@zierfischverein.ch
SUMMARY:Aufbau ReptiFish 2025
DESCRIPTION:Aufbau der ReptiFish 2025. \nTreffpunkt je nach Einteilung Waldhaus Lyss\, Seelandhalle Lyss oder MZW Kallnach. \nHelfer sind gerne willkommen!
URL:https://zierfischverein.ch/event/aufbau-reptifish-2025/
LOCATION:Mehrzweckhalle Kallnach\, Turnhallenweg\, Kallnach\, 3283\, Schweiz
ORGANIZER;CN="Seel%C3%A4ndischer Terrarien- und Zierfischverein":MAILTO:zierfischverein@hotmail.com
END:VEVENT
BEGIN:VEVENT
DTSTART;TZID=Europe/Paris:20240317T100000
DTEND;TZID=Europe/Paris:20240317T140000
DTSTAMP:20260424T142921
CREATED:20240102T092523Z
LAST-MODIFIED:20240102T092523Z
UID:1751-1710669600-1710684000@zierfischverein.ch
SUMMARY:ReptiFish 2024 – 25. Seeländische Zierfisch- & Reptilien – Börse
DESCRIPTION:Im Frühling 2024 findet unsere Börse schon zum 25. Mal statt. Züchter aus der ganzen Schweiz bieten ihre eigenen Nachzuchten zum Verkauf an. Daneben findet der Besucher Futter\, aber auch Technik und Einrichtungen für Aquarien und Terrarien können erworben werden.\nDie grosszügige Cafeteria bietet nebst Kaffe und Kuchen auch einige warme Imbisse an und bietet Platz für Treffen und Diskussionen unter Gleichgesinnten. Ein Besuch lohnt sich allemal! Wir freuen uns Sie an der Börse begrüssen zu dürfen. \nDie Börse ist komplett rollstuhlgängig.\nDie Parkplätze befinden sich direkt vor dem Eingang.\nEintritt frei.
URL:https://zierfischverein.ch/event/reptifish-2024-25-seelaendische-zierfisch-reptilien-boerse/
LOCATION:Mehrzweckhalle Kallnach\, Turnhallenweg\, Kallnach\, 3283\, Schweiz
CATEGORIES:Börsen,Messen
ORGANIZER;CN="Seel%C3%A4ndischer Terrarien- und Zierfischverein":MAILTO:zierfischverein@hotmail.com
END:VEVENT
BEGIN:VEVENT
DTSTART;TZID=Europe/Paris:20240316T130000
DTEND;TZID=Europe/Paris:20240316T170000
DTSTAMP:20260424T142921
CREATED:20240102T092303Z
LAST-MODIFIED:20240102T092637Z
UID:1749-1710594000-1710608400@zierfischverein.ch
SUMMARY:Aufbau ReptiFish 2024
DESCRIPTION:Aufbau der ReptiFish 2024. \nTreffpunkt je nach Einteilung Waldhaus Lyss\, Seelandhalle Lyss oder MZW Kallnach.
URL:https://zierfischverein.ch/event/aufbau-reptifish24/
LOCATION:Mehrzweckhalle Kallnach\, Turnhallenweg\, Kallnach\, 3283\, Schweiz
ORGANIZER;CN="Seel%C3%A4ndischer Terrarien- und Zierfischverein":MAILTO:zierfischverein@hotmail.com
END:VEVENT
BEGIN:VEVENT
DTSTART;TZID=Europe/Paris:20231002T200000
DTEND;TZID=Europe/Paris:20231002T213000
DTSTAMP:20260424T142921
CREATED:20230314T200618Z
LAST-MODIFIED:20230314T200635Z
UID:1734-1696276800-1696282200@zierfischverein.ch
SUMMARY:Aquarianer-Höck mit Kurzvortrag
DESCRIPTION:Der Vereinsabend beginnt mit einem Kurzvortrag eines Vereinsmitglieds. Danach bleibt genügend Zeit für Diskussionen und den Austausch mit Gleichgesinnten. Gäste und Interessierte sind herzlich willkommen.
URL:https://zierfischverein.ch/event/aquarianer-hoeck-mit-kurzvortrag-1023/
LOCATION:Spatz Lyss\, Bielstrasse 28\, Lyss\, Bern\, 3250\, Schweiz
CATEGORIES:Aquarianer-Höck,Vorträge
ORGANIZER;CN="Seel%C3%A4ndischer Terrarien- und Zierfischverein":MAILTO:zierfischverein@hotmail.com
END:VEVENT
BEGIN:VEVENT
DTSTART;TZID=Europe/Paris:20230904T200000
DTEND;TZID=Europe/Paris:20230904T213000
DTSTAMP:20260424T142921
CREATED:20230314T200526Z
LAST-MODIFIED:20230314T200526Z
UID:1732-1693857600-1693863000@zierfischverein.ch
SUMMARY:Aquarianer-Höck mit Kurzvortrag
DESCRIPTION:Der Vereinsabend beginnt mit einem Kurzvortrag eines Vereinsmitglieds. Danach bleibt genügend Zeit für Diskussionen und den Austausch mit Gleichgesinnten. Gäste und Interessierte sind herzlich willkommen.
URL:https://zierfischverein.ch/event/aquarianer-hoeck-mit-kurzvortrag-923/
LOCATION:Spatz Lyss\, Bielstrasse 28\, Lyss\, Bern\, 3250\, Schweiz
CATEGORIES:Aquarianer-Höck,Vorträge
ORGANIZER;CN="Seel%C3%A4ndischer Terrarien- und Zierfischverein":MAILTO:zierfischverein@hotmail.com
END:VEVENT
BEGIN:VEVENT
DTSTART;TZID=Europe/Paris:20230605T200000
DTEND;TZID=Europe/Paris:20230605T213000
DTSTAMP:20260424T142921
CREATED:20230314T200130Z
LAST-MODIFIED:20230314T200732Z
UID:1730-1685995200-1686000600@zierfischverein.ch
SUMMARY:Aquarianer-Höck mit Kurzvortrag
DESCRIPTION:Der Vereinsabend beginnt mit einem Kurzvortrag eines Vereinsmitglieds. Danach bleibt genügend Zeit für Diskussionen und den Austausch mit Gleichgesinnten. Gäste und Interessierte sind herzlich willkommen.
URL:https://zierfischverein.ch/event/aquarianer-hoeck-mit-kurzvortrag-623/
LOCATION:Spatz Lyss\, Bielstrasse 28\, Lyss\, Bern\, 3250\, Schweiz
CATEGORIES:Aquarianer-Höck,Vorträge
ORGANIZER;CN="Seel%C3%A4ndischer Terrarien- und Zierfischverein":MAILTO:zierfischverein@hotmail.com
END:VEVENT
BEGIN:VEVENT
DTSTART;TZID=Europe/Paris:20230501T200000
DTEND;TZID=Europe/Paris:20230501T213000
DTSTAMP:20260424T142921
CREATED:20230314T200015Z
LAST-MODIFIED:20230314T200826Z
UID:1728-1682971200-1682976600@zierfischverein.ch
SUMMARY:Aquarianer-Höck mit Kurzvortrag
DESCRIPTION:Der Vereinsabend beginnt mit einem Kurzvortrag eines Vereinsmitglieds. Danach bleibt genügend Zeit für Diskussionen und den Austausch mit Gleichgesinnten. Gäste und Interessierte sind herzlich willkommen.
URL:https://zierfischverein.ch/event/aquarianer-hoeck-mit-kurzvortrag-523/
LOCATION:Spatz Lyss\, Bielstrasse 28\, Lyss\, Bern\, 3250\, Schweiz
CATEGORIES:Aquarianer-Höck,Vorträge
ORGANIZER;CN="Seel%C3%A4ndischer Terrarien- und Zierfischverein":MAILTO:zierfischverein@hotmail.com
END:VEVENT
BEGIN:VEVENT
DTSTART;TZID=Europe/Paris:20230403T200000
DTEND;TZID=Europe/Paris:20230403T213000
DTSTAMP:20260424T142921
CREATED:20230314T195417Z
LAST-MODIFIED:20230314T200852Z
UID:1721-1680552000-1680557400@zierfischverein.ch
SUMMARY:Aquarianer-Höck mit Kurzvortrag
DESCRIPTION:Der Vereinsabend beginnt mit einem Kurzvortrag eines Vereinsmitglieds. Danach bleibt genügend Zeit für Diskussionen und den Austausch mit Gleichgesinnten. Gäste und Interessierte sind herzlich willkommen.
URL:https://zierfischverein.ch/event/aquarianer-hoeck-mit-kurzvortrag-423/
LOCATION:Spatz Lyss\, Bielstrasse 28\, Lyss\, Bern\, 3250\, Schweiz
CATEGORIES:Aquarianer-Höck,Vorträge
ORGANIZER;CN="Seel%C3%A4ndischer Terrarien- und Zierfischverein":MAILTO:zierfischverein@hotmail.com
END:VEVENT
BEGIN:VEVENT
DTSTART;TZID=Europe/Paris:20220403T100000
DTEND;TZID=Europe/Paris:20220403T140000
DTSTAMP:20260424T142921
CREATED:20220220T161146Z
LAST-MODIFIED:20220221T161851Z
UID:1655-1648980000-1648994400@zierfischverein.ch
SUMMARY:ReptiFish 2022 – 24. Seeländische Zierfisch- & Reptilien – Börse
DESCRIPTION:Im Frühling 2022 findet unsere Börse schon zum 24. Mal statt. Züchter aus der ganzen Schweiz bieten ihre eigenen Nachzuchten zum Verkauf an. Daneben findet der Besucher Futter\, aber auch Technik und Einrichtungen für Aquarien und Terrarien können erworben werden.\nDie grosszügige Cafeteria bietet nebst Kaffe und Kuchen auch einige warme Imbisse an und bietet Platz für Treffen und Diskussionen unter Gleichgesinnten. Ein Besuch lohnt sich allemal! Wir freuen uns Sie an der Börse begrüssen zu dürfen. \nDie Börse ist komplett rollstuhlgängig.\nDie Parkplätze befinden sich direkt vor dem Eingang.\nEintritt frei.
URL:https://zierfischverein.ch/event/reptifish23boerse/
LOCATION:Mehrzweckhalle Kallnach\, Turnhallenweg\, Kallnach\, 3283\, Schweiz
CATEGORIES:Börsen,Messen
ORGANIZER;CN="Seel%C3%A4ndischer Terrarien- und Zierfischverein":MAILTO:zierfischverein@hotmail.com
END:VEVENT
BEGIN:VEVENT
DTSTART;TZID=Europe/Paris:20220402T130000
DTEND;TZID=Europe/Paris:20220402T170000
DTSTAMP:20260424T142921
CREATED:20220220T161442Z
LAST-MODIFIED:20220220T161442Z
UID:1657-1648904400-1648918800@zierfischverein.ch
SUMMARY:Aufbau ReptiFish
DESCRIPTION:Aufbau der ReptiFish 2022. \nTreffpunkt je nach Einteilung Waldhaus Lyss\, Seelandhalle Lyss oder MZW Kallnach.
URL:https://zierfischverein.ch/event/aufbau-reptifish-3/
LOCATION:Mehrzweckhalle Kallnach\, Turnhallenweg\, Kallnach\, 3283\, Schweiz
ORGANIZER;CN="Seel%C3%A4ndischer Terrarien- und Zierfischverein":MAILTO:zierfischverein@hotmail.com
END:VEVENT
BEGIN:VEVENT
DTSTART;TZID=Europe/Paris:20200914T200000
DTEND;TZID=Europe/Paris:20200914T220000
DTSTAMP:20260424T142921
CREATED:20200901T185000Z
LAST-MODIFIED:20200901T185000Z
UID:1625-1600113600-1600120800@zierfischverein.ch
SUMMARY:Vortrag: Reisebericht Ecuador 2019
DESCRIPTION:Unser Vereinsmitglied konnte im November 2019 auf einer Ecuadorreise das Amazonastiefland besuchen. Der Reisebericht beinhaltet viele Fotos und Videos aus dem Regenwald\, von Botsfahrten auf Flüssen und Lagunen und Einblicke ins Leben der indigenen Bevölkerung. \nGäste und Interessierte sind gerne willkommen!
URL:https://zierfischverein.ch/event/vortrag-reisebericht-ecuador-2019/
LOCATION:Bären Worben
CATEGORIES:Vorträge
ORGANIZER;CN="Seel%C3%A4ndischer Terrarien- und Zierfischverein":MAILTO:zierfischverein@hotmail.com
END:VEVENT
BEGIN:VEVENT
DTSTART;TZID=Europe/Paris:20200405T100000
DTEND;TZID=Europe/Paris:20200405T140000
DTSTAMP:20260424T142921
CREATED:20191202T193935Z
LAST-MODIFIED:20200311T173845Z
UID:1511-1586080800-1586095200@zierfischverein.ch
SUMMARY:Abgesagt - ReptiFish 2020 – 22. Seeländische Zierfisch- & Reptilien – Börse
DESCRIPTION:Aufgrund Covid-19 abgesagt! \n 
URL:https://zierfischverein.ch/event/reptifish-2020-22-seelaendische-zierfisch-reptilien-boerse/
LOCATION:Mehrzweckhalle Kallnach\, Turnhallenweg\, Kallnach\, 3283\, Schweiz
CATEGORIES:Börsen
ORGANIZER;CN="Seel%C3%A4ndischer Terrarien- und Zierfischverein":MAILTO:zierfischverein@hotmail.com
END:VEVENT
BEGIN:VEVENT
DTSTART;TZID=Europe/Paris:20200404T130000
DTEND;TZID=Europe/Paris:20200404T170000
DTSTAMP:20260424T142921
CREATED:20191202T194350Z
LAST-MODIFIED:20200311T173742Z
UID:1513-1586005200-1586019600@zierfischverein.ch
SUMMARY:Abgesagt - Aufbau ReptiFish
DESCRIPTION:Aufgrund Covid-19 abgesagt!
URL:https://zierfischverein.ch/event/aufbau-reptifish-2/
CATEGORIES:Börsen
ORGANIZER;CN="Seel%C3%A4ndischer Terrarien- und Zierfischverein":MAILTO:zierfischverein@hotmail.com
END:VEVENT
BEGIN:VEVENT
DTSTART;TZID=Europe/Paris:20191014T200000
DTEND;TZID=Europe/Paris:20191014T213000
DTSTAMP:20260424T142921
CREATED:20190413T065529Z
LAST-MODIFIED:20190413T065530Z
UID:1370-1571083200-1571088600@zierfischverein.ch
SUMMARY:Vortrag: Welse im Aquarium
DESCRIPTION:Unser heutiger Referent ist langjähriger Züchter und europaweit bekannter Spezialist auf dem Gebiet der Harnischwelse. Dass diese mehr als nur Putzerli sind erfahren wir heute Abend. \nReferent: Johannes Leuenberger \nGäste und Interessierte sind willkommen!
URL:https://zierfischverein.ch/event/vortrag-welse-im-aquarium/
CATEGORIES:Vorträge
END:VEVENT
BEGIN:VEVENT
DTSTART;TZID=Europe/Paris:20190909T200000
DTEND;TZID=Europe/Paris:20190909T213000
DTSTAMP:20260424T142921
CREATED:20190413T065402Z
LAST-MODIFIED:20190413T065403Z
UID:1368-1568059200-1568064600@zierfischverein.ch
SUMMARY:Vortrag: Kampffische\, Haltung & Zucht
DESCRIPTION:Diese prachtvollen Tiere werden wir heute näher kennen lernen\, im Besonderen deren Haltung und Zucht. \nReferent: Kevin Walthert \nGäste und Interessierte sind willkommen!
URL:https://zierfischverein.ch/event/vortrag-kampffische-haltung-zucht/
LOCATION:Bären Worben
CATEGORIES:Vorträge
ORGANIZER;CN="Seel%C3%A4ndischer Terrarien- und Zierfischverein":MAILTO:zierfischverein@hotmail.com
END:VEVENT
BEGIN:VEVENT
DTSTART;TZID=Europe/Paris:20190603T200000
DTEND;TZID=Europe/Paris:20190603T213000
DTSTAMP:20260424T142921
CREATED:20190413T065218Z
LAST-MODIFIED:20190413T065218Z
UID:1366-1559592000-1559597400@zierfischverein.ch
SUMMARY:Reisebericht Costa Rica Panama
DESCRIPTION:Letztes Jahr bereisten wir mit vielen schönen Bildern Ecuador und Kolumbien. Dieses Jahr lernen wir nun die Amphibien- und Pflanzenwelt von Costa Rica und Panama näher kennen. \nReferent: Gabriel Schmied \nGäste und Interessierte sind willkommen!
URL:https://zierfischverein.ch/event/reisebericht-costa-rica-panama/
LOCATION:Bären Worben
CATEGORIES:Vorträge
ORGANIZER;CN="Seel%C3%A4ndischer Terrarien- und Zierfischverein":MAILTO:zierfischverein@hotmail.com
END:VEVENT
BEGIN:VEVENT
DTSTART;TZID=Europe/Paris:20190511T094500
DTEND;TZID=Europe/Paris:20190511T160000
DTSTAMP:20260424T142921
CREATED:20190413T070729Z
LAST-MODIFIED:20190423T153149Z
UID:1375-1557567900-1557590400@zierfischverein.ch
SUMMARY:Aquariumkurs - damit sich Fische im Aquarium wohl fühlen
DESCRIPTION:Ein Aquarium ist ein kleines Ökosystem. Damit es funktioniert\, braucht der Tierhalter ein Basiswissen über Fischarten\, die Gestaltung des Lebenraumes und den Erhalt der Wasserqualität. So unterschiedlich das Sozialverhalten der verschiedenen Fischarten ist\, so verschieden sind auch die Ansprüche an den Lebensraum. Eine artgerechte Zierfischhaltung im Aquarium bedeutet\, dass die Haltung bestmöglich auf das arttypische Verhalten der Fische ausgerichtet ist. Dieser Tageskurs soll Neuaquarianer Basiskenntnisse über Zierfische und ihre artgerechte Haltung vermitteln. Der Kurs ist kostenlos. \n  \nAnmeldung unter anmeldung@kompanima.ch
URL:https://zierfischverein.ch/event/aquariumkurs-damit-sich-fische-im-aquarium-wohl-fuehlen/
LOCATION:Aarberg
CATEGORIES:Kurs
ORGANIZER;CN="Seel%C3%A4ndischer Terrarien- und Zierfischverein":MAILTO:zierfischverein@hotmail.com
END:VEVENT
BEGIN:VEVENT
DTSTART;TZID=Europe/Paris:20190506T200000
DTEND;TZID=Europe/Paris:20190506T213000
DTSTAMP:20260424T142921
CREATED:20190413T064837Z
LAST-MODIFIED:20190413T064837Z
UID:1364-1557172800-1557178200@zierfischverein.ch
SUMMARY:Reisebericht Malawi\, Reise ins warme Herz von Afrika
DESCRIPTION:Unser Referent berichtet von Landschaften\, Wasserwelten\, Forschung\, Sandcichliden und Mbunas bis zu Elefanten\, Nilpferden und Schreiadlern rund um den Malawisee. \nReferent: Marcel Häsler \nGäste und Interessierte sind willkommen!
URL:https://zierfischverein.ch/event/reisebericht-malawi-reise-ins-warme-herz-von-afrika/
LOCATION:Bären Worben
CATEGORIES:Vorträge
ORGANIZER;CN="Seel%C3%A4ndischer Terrarien- und Zierfischverein":MAILTO:zierfischverein@hotmail.com
END:VEVENT
BEGIN:VEVENT
DTSTART;TZID=Europe/Paris:20190426T190000
DTEND;TZID=Europe/Paris:20190426T190000
DTSTAMP:20260424T142921
CREATED:20190413T070040Z
LAST-MODIFIED:20190413T070041Z
UID:1372-1556305200-1556305200@zierfischverein.ch
SUMMARY:Generalversammlung
DESCRIPTION:Alljährliche Generalversammlung. Für Mitglieder ist die GV obligatorisch! \nBei Abwesenheit bitte frühzeitig abmelden. \nFür (noch) nicht Mitglieder besteht hier die Chance in den Verein aufgenommen zu werden. Bei Interesse bitte melden an info@zierfischverein.ch
URL:https://zierfischverein.ch/event/generalversammlung/
LOCATION:Bären Lyss\, Bernstrasse 1\, Lyss\, Bern\, 3250\, Schweiz
CATEGORIES:Sitzung
ORGANIZER;CN="Seel%C3%A4ndischer Terrarien- und Zierfischverein":MAILTO:zierfischverein@hotmail.com
END:VEVENT
BEGIN:VEVENT
DTSTART;TZID=Europe/Paris:20190415T200000
DTEND;TZID=Europe/Paris:20190415T213000
DTSTAMP:20260424T142921
CREATED:20190413T064551Z
LAST-MODIFIED:20190413T070910Z
UID:1362-1555358400-1555363800@zierfischverein.ch
SUMMARY:Vortrag Kerala Fische auf indisch
DESCRIPTION:Unser Referent züchtet schon seit vielen Jahren verschiedene Zierfischarten und bereist daneben auch viele Länder. Dieses Jahr berichtet er uns über Fische\, Fischzucht\, Land und Leute von Kerala (Südindien). Lassen wir uns überraschen was er so alles erlebt hat. \nReferent: Pascal Sewer \nGäste und Interessierte sind willkommen! \n 
URL:https://zierfischverein.ch/event/vortrag-kerala-fische-auf-indisch/
LOCATION:Bären Worben
CATEGORIES:Vorträge
END:VEVENT
BEGIN:VEVENT
DTSTART;TZID=Europe/Paris:20190407T190000
DTEND;TZID=Europe/Paris:20190407T213000
DTSTAMP:20260424T142921
CREATED:20181230T125625Z
LAST-MODIFIED:20181230T125625Z
UID:1273-1554663600-1554672600@zierfischverein.ch
SUMMARY:Helferessen ReptiFish
DESCRIPTION:Das alljährliche Pizzaessen nach der Börse für alle\, die an der Börse mitgewirkt haben. Anmeldung wie immer an bei der Cafeteria.
URL:https://zierfischverein.ch/event/helferessen-reptifish/
END:VEVENT
BEGIN:VEVENT
DTSTART;TZID=Europe/Zurich:20190407T100000
DTEND;TZID=Europe/Zurich:20190407T140000
DTSTAMP:20260424T142921
CREATED:20181125T113015Z
LAST-MODIFIED:20181230T131946Z
UID:953-1554631200-1554645600@zierfischverein.ch
SUMMARY:ReptiFish 2019 – 21. Seeländische Zierfisch- & Reptilien – Börse
DESCRIPTION:Auch nach zwanzig Jahren haben wir noch nicht genug! Im Frühling 2019 findet unsere Börse schon zum 21. Mal statt. Züchter aus der ganzen Schweiz bieten ihre eigenen Nachzuchten zum Verkauf an. Daneben findet der Besucher Futter\, aber auch Technik und Einrichtungen für Aquarien und Terrarien können erworben werden.\nDie grosszügige Cafeteria bietet nebst Kaffe und Kuchen auch einige warme Imbisse an und bietet Platz für Treffen und Diskussionen unter Gleichgesinnten. Ein Besuch lohnt sich allemal! Wir freuen uns Sie an der Börse begrüssen zu dürfen. \nDie Börse ist komplett rollstuhlgängig.\nDie Parkplätze befinden sich direkt vor dem Eingang.\nEintritt frei.
URL:https://zierfischverein.ch/event/reptifish-2019-21-seelaendische-zierfisch-reptilien-boerse/
LOCATION:Mehrzweckhalle Kallnach\, Turnhallenweg\, Kallnach\, 3283\, Schweiz
CATEGORIES:Börsen
ORGANIZER;CN="Seel%C3%A4ndischer Terrarien- und Zierfischverein":MAILTO:zierfischverein@hotmail.com
END:VEVENT
BEGIN:VEVENT
DTSTART;TZID=Europe/Paris:20190406T130000
DTEND;TZID=Europe/Paris:20190406T170000
DTSTAMP:20260424T142921
CREATED:20181230T124939Z
LAST-MODIFIED:20191202T194015Z
UID:1269-1554555600-1554570000@zierfischverein.ch
SUMMARY:Aufbau ReptiFish
DESCRIPTION:Aufbau der ReptiFish 2019. \nTreffpunkt je nach Einteilung Waldhaus Lyss\, Seelandhalle Lyss oder MZW Kallnach.
URL:https://zierfischverein.ch/event/aufbau-reptifish/
CATEGORIES:Börsen
ORGANIZER;CN="Seel%C3%A4ndischer Terrarien- und Zierfischverein":MAILTO:zierfischverein@hotmail.com
END:VEVENT
BEGIN:VEVENT
DTSTART;VALUE=DATE:20190308
DTEND;VALUE=DATE:20190311
DTSTAMP:20260424T142921
CREATED:20181125T130217Z
LAST-MODIFIED:20181226T143225Z
UID:961-1552003200-1552262399@zierfischverein.ch
SUMMARY:Aqua-Fisch in Friedrichshafen
DESCRIPTION:
URL:https://zierfischverein.ch/event/aqua-fisch-in-friedrichshafen/
LOCATION:Messe Friedrichshafen\, Neue Messe 1\, Friedrichshafen\, 88046\, Deutschland
CATEGORIES:Messen
END:VEVENT
BEGIN:VEVENT
DTSTART;TZID=Europe/Paris:20190304T200000
DTEND;TZID=Europe/Paris:20190304T213000
DTSTAMP:20260424T142921
CREATED:20181230T124638Z
LAST-MODIFIED:20181230T124638Z
UID:1267-1551729600-1551735000@zierfischverein.ch
SUMMARY:3. Börsensitzung
DESCRIPTION:Sitzung zum Besprechen der letzten Details für die ReptiFish
URL:https://zierfischverein.ch/event/3-boersensitzung/
LOCATION:Bären Worben
CATEGORIES:Sitzung
ORGANIZER;CN="Seel%C3%A4ndischer Terrarien- und Zierfischverein":MAILTO:zierfischverein@hotmail.com
END:VEVENT
END:VCALENDAR